BEGIN:VCALENDAR
VERSION:2.0
PRODID:-//TB Beckhausen - ECPv6.15.20//NONSGML v1.0//EN
CALSCALE:GREGORIAN
METHOD:PUBLISH
X-WR-CALNAME:TB Beckhausen
X-ORIGINAL-URL:https://tb-beckhausen.de
X-WR-CALDESC:Veranstaltungen für TB Beckhausen
REFRESH-INTERVAL;VALUE=DURATION:PT1H
X-Robots-Tag:noindex
X-PUBLISHED-TTL:PT1H
BEGIN:VTIMEZONE
TZID:Europe/Berlin
BEGIN:DAYLIGHT
TZOFFSETFROM:+0100
TZOFFSETTO:+0200
TZNAME:CEST
DTSTART:20250330T010000
END:DAYLIGHT
BEGIN:STANDARD
TZOFFSETFROM:+0200
TZOFFSETTO:+0100
TZNAME:CET
DTSTART:20251026T010000
END:STANDARD
BEGIN:DAYLIGHT
TZOFFSETFROM:+0100
TZOFFSETTO:+0200
TZNAME:CEST
DTSTART:20260329T010000
END:DAYLIGHT
BEGIN:STANDARD
TZOFFSETFROM:+0200
TZOFFSETTO:+0100
TZNAME:CET
DTSTART:20261025T010000
END:STANDARD
BEGIN:DAYLIGHT
TZOFFSETFROM:+0100
TZOFFSETTO:+0200
TZNAME:CEST
DTSTART:20270328T010000
END:DAYLIGHT
BEGIN:STANDARD
TZOFFSETFROM:+0200
TZOFFSETTO:+0100
TZNAME:CET
DTSTART:20271031T010000
END:STANDARD
END:VTIMEZONE
BEGIN:VEVENT
DTSTART;TZID=Europe/Berlin:20260603T000000
DTEND;TZID=Europe/Berlin:20260607T000000
DTSTAMP:20260425T181157
CREATED:20260112T201255Z
LAST-MODIFIED:20260112T201255Z
UID:5253-1780444800-1780790400@tb-beckhausen.de
SUMMARY:5.NRW-Landesturnfest 3.-7.6.2026
DESCRIPTION:
URL:https://tb-beckhausen.de/event/5-nrw-landesturnfest-3-7-6-2026/
LOCATION:Hamm
CATEGORIES:Gerätturnen
ATTACH;FMTTYPE=image/jpeg:https://tb-beckhausen.de/wp-content/uploads/2026/01/Unbe1nannt.jpg
END:VEVENT
END:VCALENDAR