BEGIN:VCALENDAR
VERSION:2.0
PRODID:-//TB Beckhausen - ECPv6.15.20//NONSGML v1.0//EN
CALSCALE:GREGORIAN
METHOD:PUBLISH
X-WR-CALNAME:TB Beckhausen
X-ORIGINAL-URL:https://tb-beckhausen.de
X-WR-CALDESC:Veranstaltungen für TB Beckhausen
REFRESH-INTERVAL;VALUE=DURATION:PT1H
X-Robots-Tag:noindex
X-PUBLISHED-TTL:PT1H
BEGIN:VTIMEZONE
TZID:Europe/Berlin
BEGIN:DAYLIGHT
TZOFFSETFROM:+0100
TZOFFSETTO:+0200
TZNAME:CEST
DTSTART:20250330T010000
END:DAYLIGHT
BEGIN:STANDARD
TZOFFSETFROM:+0200
TZOFFSETTO:+0100
TZNAME:CET
DTSTART:20251026T010000
END:STANDARD
BEGIN:DAYLIGHT
TZOFFSETFROM:+0100
TZOFFSETTO:+0200
TZNAME:CEST
DTSTART:20260329T010000
END:DAYLIGHT
BEGIN:STANDARD
TZOFFSETFROM:+0200
TZOFFSETTO:+0100
TZNAME:CET
DTSTART:20261025T010000
END:STANDARD
BEGIN:DAYLIGHT
TZOFFSETFROM:+0100
TZOFFSETTO:+0200
TZNAME:CEST
DTSTART:20270328T010000
END:DAYLIGHT
BEGIN:STANDARD
TZOFFSETFROM:+0200
TZOFFSETTO:+0100
TZNAME:CET
DTSTART:20271031T010000
END:STANDARD
END:VTIMEZONE
BEGIN:VEVENT
DTSTART;VALUE=DATE:20260207
DTEND;VALUE=DATE:20260208
DTSTAMP:20260425T181314
CREATED:20260112T200348Z
LAST-MODIFIED:20260112T200348Z
UID:5247-1770422400-1770508799@tb-beckhausen.de
SUMMARY:2026 Gerätturnliga P4-9 2.WT
DESCRIPTION:
URL:https://tb-beckhausen.de/event/2026-geraetturnliga-p4-9-2-wt/
LOCATION:Mühlheim
CATEGORIES:Gerätturnen
END:VEVENT
BEGIN:VEVENT
DTSTART;VALUE=DATE:20260222
DTEND;VALUE=DATE:20260223
DTSTAMP:20260425T181314
CREATED:20260112T200600Z
LAST-MODIFIED:20260112T200600Z
UID:5251-1771718400-1771804799@tb-beckhausen.de
SUMMARY:Mini-Wettkampf P1-6
DESCRIPTION:
URL:https://tb-beckhausen.de/event/mini-wettkampf-p1-6/
LOCATION:Essen
CATEGORIES:Gerätturnen
END:VEVENT
BEGIN:VEVENT
DTSTART;VALUE=DATE:20260228
DTEND;VALUE=DATE:20260301
DTSTAMP:20260425T181314
CREATED:20260112T200447Z
LAST-MODIFIED:20260210T032451Z
UID:5249-1772236800-1772323199@tb-beckhausen.de
SUMMARY:2026 Gerätturnliga P4-9 2.WT Finale
DESCRIPTION:
URL:https://tb-beckhausen.de/event/2026-geraetturnliga-p4-9-3-wt-finale/
LOCATION:Mühlheim
CATEGORIES:Gerätturnen
END:VEVENT
END:VCALENDAR