BEGIN:VCALENDAR
VERSION:2.0
PRODID:-//TB Beckhausen - ECPv6.15.20//NONSGML v1.0//EN
CALSCALE:GREGORIAN
METHOD:PUBLISH
X-ORIGINAL-URL:https://tb-beckhausen.de
X-WR-CALDESC:Veranstaltungen für TB Beckhausen
REFRESH-INTERVAL;VALUE=DURATION:PT1H
X-Robots-Tag:noindex
X-PUBLISHED-TTL:PT1H
BEGIN:VTIMEZONE
TZID:Europe/Berlin
BEGIN:DAYLIGHT
TZOFFSETFROM:+0100
TZOFFSETTO:+0200
TZNAME:CEST
DTSTART:20240331T010000
END:DAYLIGHT
BEGIN:STANDARD
TZOFFSETFROM:+0200
TZOFFSETTO:+0100
TZNAME:CET
DTSTART:20241027T010000
END:STANDARD
BEGIN:DAYLIGHT
TZOFFSETFROM:+0100
TZOFFSETTO:+0200
TZNAME:CEST
DTSTART:20250330T010000
END:DAYLIGHT
BEGIN:STANDARD
TZOFFSETFROM:+0200
TZOFFSETTO:+0100
TZNAME:CET
DTSTART:20251026T010000
END:STANDARD
BEGIN:DAYLIGHT
TZOFFSETFROM:+0100
TZOFFSETTO:+0200
TZNAME:CEST
DTSTART:20260329T010000
END:DAYLIGHT
BEGIN:STANDARD
TZOFFSETFROM:+0200
TZOFFSETTO:+0100
TZNAME:CET
DTSTART:20261025T010000
END:STANDARD
END:VTIMEZONE
BEGIN:VEVENT
DTSTART;VALUE=DATE:20250308
DTEND;VALUE=DATE:20250309
DTSTAMP:20260426T021903
CREATED:20250225T171420Z
LAST-MODIFIED:20250225T171420Z
UID:4699-1741392000-1741478399@tb-beckhausen.de
SUMMARY:Mannschaftsmeisterschaften A
DESCRIPTION:Gau Qualifikation
URL:https://tb-beckhausen.de/event/mannschaftsmeisterschaften-a/
LOCATION:Marl-Hüls
CATEGORIES:Gerätturnen
END:VEVENT
BEGIN:VEVENT
DTSTART;TZID=Europe/Berlin:20250321T180000
DTEND;TZID=Europe/Berlin:20250321T210000
DTSTAMP:20260426T021903
CREATED:20250218T115950Z
LAST-MODIFIED:20250218T120111Z
UID:4690-1742580000-1742590800@tb-beckhausen.de
SUMMARY:Jahreshauptversammlung 2025
DESCRIPTION:
URL:https://tb-beckhausen.de/event/jahreshauptversammlung-2025/
LOCATION:Mensa der Hauptschule an der Schwalbenstraße 22\, 45899 Gelsenkirchen
END:VEVENT
BEGIN:VEVENT
DTSTART;VALUE=DATE:20250322
DTEND;VALUE=DATE:20250323
DTSTAMP:20260426T021903
CREATED:20250225T171722Z
LAST-MODIFIED:20250225T171722Z
UID:4703-1742601600-1742687999@tb-beckhausen.de
SUMMARY:Mini-Freundschaftswettkampf
DESCRIPTION:TB.Beckhausen & TC Kray
URL:https://tb-beckhausen.de/event/mini-freundschaftswettkampf/
LOCATION:Essen
CATEGORIES:Gerätturnen
END:VEVENT
END:VCALENDAR