BEGIN:VCALENDAR
VERSION:2.0
PRODID:-//TB Beckhausen - ECPv6.15.20//NONSGML v1.0//EN
CALSCALE:GREGORIAN
METHOD:PUBLISH
X-ORIGINAL-URL:https://tb-beckhausen.de
X-WR-CALDESC:Veranstaltungen für TB Beckhausen
REFRESH-INTERVAL;VALUE=DURATION:PT1H
X-Robots-Tag:noindex
X-PUBLISHED-TTL:PT1H
BEGIN:VTIMEZONE
TZID:Europe/Berlin
BEGIN:DAYLIGHT
TZOFFSETFROM:+0100
TZOFFSETTO:+0200
TZNAME:CEST
DTSTART:20250330T010000
END:DAYLIGHT
BEGIN:STANDARD
TZOFFSETFROM:+0200
TZOFFSETTO:+0100
TZNAME:CET
DTSTART:20251026T010000
END:STANDARD
BEGIN:DAYLIGHT
TZOFFSETFROM:+0100
TZOFFSETTO:+0200
TZNAME:CEST
DTSTART:20260329T010000
END:DAYLIGHT
BEGIN:STANDARD
TZOFFSETFROM:+0200
TZOFFSETTO:+0100
TZNAME:CET
DTSTART:20261025T010000
END:STANDARD
BEGIN:DAYLIGHT
TZOFFSETFROM:+0100
TZOFFSETTO:+0200
TZNAME:CEST
DTSTART:20270328T010000
END:DAYLIGHT
BEGIN:STANDARD
TZOFFSETFROM:+0200
TZOFFSETTO:+0100
TZNAME:CET
DTSTART:20271031T010000
END:STANDARD
END:VTIMEZONE
BEGIN:VEVENT
DTSTART;VALUE=DATE:20260502
DTEND;VALUE=DATE:20260523
DTSTAMP:20260425T181531
CREATED:20260410T123334Z
LAST-MODIFIED:20260410T123444Z
UID:5356-1777680000-1779494399@tb-beckhausen.de
SUMMARY:STADTRADELN 2026
DESCRIPTION:Vom 2. bis 22. Mai 2026 ist es soweit! Dein Lieblingsverein startet mit der Gruppe „TB Beckhausen & Friends“ beim STADTRADELN – und du kannst Teil unseres Teams werden! \nSTADTRADELN ist ein Wettbewerb\, bei dem es darum geht\, 21 Tage lang möglichst viele Alltagswege klimafreundlich mit dem Fahrrad zurückzulegen. Egal\, ob du täglich fährst oder bisher eher selten auf dem Rad sitzt: Jeder Kilometer zählt – besonders dann\, wenn du ihn sonst mit dem Auto zurückgelegt hättest. \nDabei spielt es keine Rolle\, ob du Mitglied beim TB Beckhausen bist oder nicht – wir freuen uns über jede Unterstützung!
URL:https://tb-beckhausen.de/event/stadtradeln-2026/
CATEGORIES:Allgemein
END:VEVENT
END:VCALENDAR