BEGIN:VCALENDAR
VERSION:2.0
PRODID:-//TB Beckhausen - ECPv6.15.20//NONSGML v1.0//EN
CALSCALE:GREGORIAN
METHOD:PUBLISH
X-WR-CALNAME:TB Beckhausen
X-ORIGINAL-URL:https://tb-beckhausen.de
X-WR-CALDESC:Veranstaltungen für TB Beckhausen
REFRESH-INTERVAL;VALUE=DURATION:PT1H
X-Robots-Tag:noindex
X-PUBLISHED-TTL:PT1H
BEGIN:VTIMEZONE
TZID:Europe/Berlin
BEGIN:DAYLIGHT
TZOFFSETFROM:+0100
TZOFFSETTO:+0200
TZNAME:CEST
DTSTART:20250330T010000
END:DAYLIGHT
BEGIN:STANDARD
TZOFFSETFROM:+0200
TZOFFSETTO:+0100
TZNAME:CET
DTSTART:20251026T010000
END:STANDARD
BEGIN:DAYLIGHT
TZOFFSETFROM:+0100
TZOFFSETTO:+0200
TZNAME:CEST
DTSTART:20260329T010000
END:DAYLIGHT
BEGIN:STANDARD
TZOFFSETFROM:+0200
TZOFFSETTO:+0100
TZNAME:CET
DTSTART:20261025T010000
END:STANDARD
BEGIN:DAYLIGHT
TZOFFSETFROM:+0100
TZOFFSETTO:+0200
TZNAME:CEST
DTSTART:20270328T010000
END:DAYLIGHT
BEGIN:STANDARD
TZOFFSETFROM:+0200
TZOFFSETTO:+0100
TZNAME:CET
DTSTART:20271031T010000
END:STANDARD
END:VTIMEZONE
BEGIN:VEVENT
DTSTART;VALUE=DATE:20260307
DTEND;VALUE=DATE:20260308
DTSTAMP:20260425T181038
CREATED:20260224T041848Z
LAST-MODIFIED:20260224T041848Z
UID:5288-1772841600-1772927999@tb-beckhausen.de
SUMMARY:Mannschaftsmeisterschaften P3-7
DESCRIPTION:TGM Qualifikation Gauendkampf
URL:https://tb-beckhausen.de/event/mannschaftsmeisterschaften-p3-7/
LOCATION:Marl-Hüls
CATEGORIES:Gerätturnen
END:VEVENT
END:VCALENDAR